BEGIN:VCALENDAR
VERSION:2.0
PRODID:-//Ngati Haua Iwi Trust - ECPv6.15.20//NONSGML v1.0//EN
CALSCALE:GREGORIAN
METHOD:PUBLISH
X-WR-CALNAME:Ngati Haua Iwi Trust
X-ORIGINAL-URL:https://ngatihauaiwitrust.co.nz
X-WR-CALDESC:Events for Ngati Haua Iwi Trust
REFRESH-INTERVAL;VALUE=DURATION:PT1H
X-Robots-Tag:noindex
X-PUBLISHED-TTL:PT1H
BEGIN:VTIMEZONE
TZID:Pacific/Auckland
BEGIN:STANDARD
TZOFFSETFROM:+1300
TZOFFSETTO:+1200
TZNAME:NZST
DTSTART:20150404T140000
END:STANDARD
BEGIN:DAYLIGHT
TZOFFSETFROM:+1200
TZOFFSETTO:+1300
TZNAME:NZDT
DTSTART:20150926T140000
END:DAYLIGHT
BEGIN:STANDARD
TZOFFSETFROM:+1300
TZOFFSETTO:+1200
TZNAME:NZST
DTSTART:20160402T140000
END:STANDARD
BEGIN:DAYLIGHT
TZOFFSETFROM:+1200
TZOFFSETTO:+1300
TZNAME:NZDT
DTSTART:20160924T140000
END:DAYLIGHT
BEGIN:STANDARD
TZOFFSETFROM:+1300
TZOFFSETTO:+1200
TZNAME:NZST
DTSTART:20170401T140000
END:STANDARD
BEGIN:DAYLIGHT
TZOFFSETFROM:+1200
TZOFFSETTO:+1300
TZNAME:NZDT
DTSTART:20170923T140000
END:DAYLIGHT
BEGIN:STANDARD
TZOFFSETFROM:+1300
TZOFFSETTO:+1200
TZNAME:NZST
DTSTART:20180331T140000
END:STANDARD
BEGIN:DAYLIGHT
TZOFFSETFROM:+1200
TZOFFSETTO:+1300
TZNAME:NZDT
DTSTART:20180929T140000
END:DAYLIGHT
BEGIN:STANDARD
TZOFFSETFROM:+1300
TZOFFSETTO:+1200
TZNAME:NZST
DTSTART:20190406T140000
END:STANDARD
BEGIN:DAYLIGHT
TZOFFSETFROM:+1200
TZOFFSETTO:+1300
TZNAME:NZDT
DTSTART:20190928T140000
END:DAYLIGHT
END:VTIMEZONE
BEGIN:VEVENT
DTSTART;VALUE=DATE:20180303
DTEND;VALUE=DATE:20180304
DTSTAMP:20260425T235216
CREATED:20171212T073232Z
LAST-MODIFIED:20171212T073232Z
UID:1317-1520035200-1520121599@ngatihauaiwitrust.co.nz
SUMMARY:Poutu Marae Poukai
DESCRIPTION:
URL:https://ngatihauaiwitrust.co.nz/events/poutu-marae-poukai/
LOCATION:Poutu Marae\, Foxton-Shannon Road\, Shannon\, New Zealand
END:VEVENT
BEGIN:VEVENT
DTSTART;VALUE=DATE:20180224
DTEND;VALUE=DATE:20180225
DTSTAMP:20260425T235216
CREATED:20171212T072956Z
LAST-MODIFIED:20171212T072956Z
UID:1314-1519430400-1519516799@ngatihauaiwitrust.co.nz
SUMMARY:Maurea Marae Poukai
DESCRIPTION:
URL:https://ngatihauaiwitrust.co.nz/events/maurea-marae-poukai/
LOCATION:Maurea Marae\, Te Ohaki Road\, Rangiriri
END:VEVENT
BEGIN:VEVENT
DTSTART;VALUE=DATE:20180210
DTEND;VALUE=DATE:20180211
DTSTAMP:20260425T235216
CREATED:20171212T072831Z
LAST-MODIFIED:20171212T072831Z
UID:1311-1518220800-1518307199@ngatihauaiwitrust.co.nz
SUMMARY:Hukanui Marae Poukai
DESCRIPTION:
URL:https://ngatihauaiwitrust.co.nz/events/hukanui-marae-poukai/
LOCATION:Hukanui Marae\, Gordonton Road\, Gordonton\, New Zealand
END:VEVENT
BEGIN:VEVENT
DTSTART;VALUE=DATE:20180203
DTEND;VALUE=DATE:20180204
DTSTAMP:20260425T235216
CREATED:20171212T072115Z
LAST-MODIFIED:20171212T072722Z
UID:1307-1517616000-1517702399@ngatihauaiwitrust.co.nz
SUMMARY:Taniwha Marae Poukai
DESCRIPTION:
URL:https://ngatihauaiwitrust.co.nz/events/taniwha-marae-poukai/
LOCATION:Taniwha Marae\, McGovern Road\, Waerenga
END:VEVENT
BEGIN:VEVENT
DTSTART;VALUE=DATE:20180114
DTEND;VALUE=DATE:20180115
DTSTAMP:20260425T235217
CREATED:20171212T071943Z
LAST-MODIFIED:20171212T072001Z
UID:1302-1515888000-1515974399@ngatihauaiwitrust.co.nz
SUMMARY:Kokohinau Marae Poukai
DESCRIPTION:
URL:https://ngatihauaiwitrust.co.nz/events/kokohina-marae-poukai/
LOCATION:Kokohinau Marae\, Te Teko Road\, Te Teko\, New Zealand
END:VEVENT
BEGIN:VEVENT
DTSTART;VALUE=DATE:20180101
DTEND;VALUE=DATE:20180102
DTSTAMP:20260425T235217
CREATED:20171212T071241Z
LAST-MODIFIED:20171212T071241Z
UID:1292-1514764800-1514851199@ngatihauaiwitrust.co.nz
SUMMARY:Horahora Marae Poukai
DESCRIPTION:
URL:https://ngatihauaiwitrust.co.nz/events/horahora-marae-poukai/
END:VEVENT
BEGIN:VEVENT
DTSTART;TZID=Pacific/Auckland:20170924T130000
DTEND;TZID=Pacific/Auckland:20170924T170000
DTSTAMP:20260425T235217
CREATED:20171005T085721Z
LAST-MODIFIED:20171005T085721Z
UID:1195-1506258000-1506272400@ngatihauaiwitrust.co.nz
SUMMARY:Annual General Meeting 2017
DESCRIPTION:Annual General Meeting on Sunday 24th September 2017\, Waimakariri Marae starting at 1pm. Ka kite koutou i reira!
URL:https://ngatihauaiwitrust.co.nz/events/annual-general-meeting-2017/
LOCATION:Waimakariri Marae\, 819 Victoria Road\, Cambridge\, Waikato\, 3287\, New Zealand
ORGANIZER;CN="Ngati Haua Iwi Trust":MAILTO:admin@ngatihauaiwitrust.co.nz
END:VEVENT
BEGIN:VEVENT
DTSTART;TZID=Pacific/Auckland:20160307T160000
DTEND;TZID=Pacific/Auckland:20160307T190000
DTSTAMP:20260425T235217
CREATED:20160225T035538Z
LAST-MODIFIED:20160225T035538Z
UID:926-1457366400-1457377200@ngatihauaiwitrust.co.nz
SUMMARY:Hui a Iwi March 2016
DESCRIPTION:A Hui a Iwi will be held on Monday 7th March 2016 at Raungaiti Marae starting at 4pm\, for any further enquiries please contact Pare Holder\, Hui a Iwi Secretary on 022 437 1560 \nNga mihi
URL:https://ngatihauaiwitrust.co.nz/events/hui-a-iwi-march-2016/
LOCATION:Raungaiti Marae\, 6425 State Highway 27\, Walton\, Waharoa\, Waikato\, 3474\, New Zealand
END:VEVENT
END:VCALENDAR