BEGIN:VCALENDAR
VERSION:2.0
PRODID:-//Ngati Haua Iwi Trust - ECPv6.15.20//NONSGML v1.0//EN
CALSCALE:GREGORIAN
METHOD:PUBLISH
X-ORIGINAL-URL:https://ngatihauaiwitrust.co.nz
X-WR-CALDESC:Events for Ngati Haua Iwi Trust
REFRESH-INTERVAL;VALUE=DURATION:PT1H
X-Robots-Tag:noindex
X-PUBLISHED-TTL:PT1H
BEGIN:VTIMEZONE
TZID:Pacific/Auckland
BEGIN:STANDARD
TZOFFSETFROM:+1300
TZOFFSETTO:+1200
TZNAME:NZST
DTSTART:20200404T140000
END:STANDARD
BEGIN:DAYLIGHT
TZOFFSETFROM:+1200
TZOFFSETTO:+1300
TZNAME:NZDT
DTSTART:20200926T140000
END:DAYLIGHT
BEGIN:STANDARD
TZOFFSETFROM:+1300
TZOFFSETTO:+1200
TZNAME:NZST
DTSTART:20210403T140000
END:STANDARD
BEGIN:DAYLIGHT
TZOFFSETFROM:+1200
TZOFFSETTO:+1300
TZNAME:NZDT
DTSTART:20210925T140000
END:DAYLIGHT
BEGIN:STANDARD
TZOFFSETFROM:+1300
TZOFFSETTO:+1200
TZNAME:NZST
DTSTART:20220402T140000
END:STANDARD
BEGIN:DAYLIGHT
TZOFFSETFROM:+1200
TZOFFSETTO:+1300
TZNAME:NZDT
DTSTART:20220924T140000
END:DAYLIGHT
END:VTIMEZONE
BEGIN:VEVENT
DTSTART;TZID=Pacific/Auckland:20210419T120000
DTEND;TZID=Pacific/Auckland:20210421T133000
DTSTAMP:20260426T021536
CREATED:20210401T020028Z
LAST-MODIFIED:20210401T031127Z
UID:2050-1618833600-1619011800@ngatihauaiwitrust.co.nz
SUMMARY:He Kura Hāpai Kāheru 2021
DESCRIPTION:Rangatahi mā nau mai haere mai\nHe wānanga tikanga\, reo\, mau rākau!\nDate:  Monday 19th – Wednesday 21 April \nVenue: Raungaiti marae \nPou: Parekura Collins \nAges: 10yrs – 18yrs \nTime: 12pm Start \nCost: $20 (for one child) \n$30 (for two children) \n$10 (per child if you have 3 or more children attending) \n50 spaces available \nFor more information please click on the registration form HERE \n 
URL:https://ngatihauaiwitrust.co.nz/events/he-kura-hapai-kaheru-2021/
LOCATION:Raungaiti Marae\, 6425 State Highway 27\, Walton\, Waharoa\, Waikato\, 3474\, New Zealand
CATEGORIES:Hauā Reo Hauā Tangata
ATTACH;FMTTYPE=image/jpeg:https://ngatihauaiwitrust.co.nz/wp-content/uploads/2021/04/He-Kura-Hapai-Kaheru-2021_Event.jpg
ORGANIZER;CN="Ngati Haua Iwi Trust":MAILTO:admin@ngatihauaiwitrust.co.nz
END:VEVENT
END:VCALENDAR