BEGIN:VCALENDAR
VERSION:2.0
PRODID:-//Ngati Haua Iwi Trust - ECPv6.15.20//NONSGML v1.0//EN
CALSCALE:GREGORIAN
METHOD:PUBLISH
X-WR-CALNAME:Ngati Haua Iwi Trust
X-ORIGINAL-URL:https://ngatihauaiwitrust.co.nz
X-WR-CALDESC:Events for Ngati Haua Iwi Trust
REFRESH-INTERVAL;VALUE=DURATION:PT1H
X-Robots-Tag:noindex
X-PUBLISHED-TTL:PT1H
BEGIN:VTIMEZONE
TZID:Pacific/Auckland
BEGIN:STANDARD
TZOFFSETFROM:+1300
TZOFFSETTO:+1200
TZNAME:NZST
DTSTART:20170401T140000
END:STANDARD
BEGIN:DAYLIGHT
TZOFFSETFROM:+1200
TZOFFSETTO:+1300
TZNAME:NZDT
DTSTART:20170923T140000
END:DAYLIGHT
BEGIN:STANDARD
TZOFFSETFROM:+1300
TZOFFSETTO:+1200
TZNAME:NZST
DTSTART:20180331T140000
END:STANDARD
BEGIN:DAYLIGHT
TZOFFSETFROM:+1200
TZOFFSETTO:+1300
TZNAME:NZDT
DTSTART:20180929T140000
END:DAYLIGHT
BEGIN:STANDARD
TZOFFSETFROM:+1300
TZOFFSETTO:+1200
TZNAME:NZST
DTSTART:20190406T140000
END:STANDARD
BEGIN:DAYLIGHT
TZOFFSETFROM:+1200
TZOFFSETTO:+1300
TZNAME:NZDT
DTSTART:20190928T140000
END:DAYLIGHT
BEGIN:STANDARD
TZOFFSETFROM:+1300
TZOFFSETTO:+1200
TZNAME:NZST
DTSTART:20200404T140000
END:STANDARD
BEGIN:DAYLIGHT
TZOFFSETFROM:+1200
TZOFFSETTO:+1300
TZNAME:NZDT
DTSTART:20200926T140000
END:DAYLIGHT
END:VTIMEZONE
BEGIN:VEVENT
DTSTART;TZID=Pacific/Auckland:20190315T173000
DTEND;TZID=Pacific/Auckland:20190315T193000
DTSTAMP:20260426T041935
CREATED:20180717T072704Z
LAST-MODIFIED:20180717T072704Z
UID:1483-1552671000-1552678200@ngatihauaiwitrust.co.nz
SUMMARY:Waiata with Hauā - Kai a Te Mata Marae
DESCRIPTION:
URL:https://ngatihauaiwitrust.co.nz/events/waiata-with-haua-kai-a-te-mata-marae/
LOCATION:Kai a te Mata Marae\, 7 Kereone Road\, Morrinsville\, Waikato\, 3371\, New Zealand
END:VEVENT
BEGIN:VEVENT
DTSTART;TZID=Pacific/Auckland:20190131T173000
DTEND;TZID=Pacific/Auckland:20190131T193000
DTSTAMP:20260426T041935
CREATED:20180717T072530Z
LAST-MODIFIED:20180717T072530Z
UID:1481-1548955800-1548963000@ngatihauaiwitrust.co.nz
SUMMARY:Waiata with Hauā - Waimakariri Marae
DESCRIPTION:
URL:https://ngatihauaiwitrust.co.nz/events/waiata-with-haua-waimakariri-marae/
LOCATION:Waimakariri Marae\, 819 Victoria Road\, Cambridge\, Waikato\, 3287\, New Zealand
END:VEVENT
BEGIN:VEVENT
DTSTART;VALUE=DATE:20181209
DTEND;VALUE=DATE:20181210
DTSTAMP:20260426T041935
CREATED:20171212T082404Z
LAST-MODIFIED:20171212T082404Z
UID:1387-1544313600-1544399999@ngatihauaiwitrust.co.nz
SUMMARY:Reretewhioi Marae Poukai
DESCRIPTION:
URL:https://ngatihauaiwitrust.co.nz/events/reretewhioi-marae-poukai/
LOCATION:Reretewhioi Marae\, Tahurangatira Road\, Waiuku\, New Zealand
END:VEVENT
BEGIN:VEVENT
DTSTART;VALUE=DATE:20181201
DTEND;VALUE=DATE:20181202
DTSTAMP:20260426T041935
CREATED:20171212T082222Z
LAST-MODIFIED:20171212T082222Z
UID:1384-1543622400-1543708799@ngatihauaiwitrust.co.nz
SUMMARY:Waikare Marae Poukai
DESCRIPTION:
URL:https://ngatihauaiwitrust.co.nz/events/waikare-marae-poukai/
LOCATION:Waikare Marae\, Waerenga Road\, Te Kauwhata\, New Zealand
END:VEVENT
BEGIN:VEVENT
DTSTART;VALUE=DATE:20181124
DTEND;VALUE=DATE:20181125
DTSTAMP:20260426T041935
CREATED:20171212T082003Z
LAST-MODIFIED:20171212T082003Z
UID:1380-1543017600-1543103999@ngatihauaiwitrust.co.nz
SUMMARY:Te Awamarahi Marae Poukai
DESCRIPTION:
URL:https://ngatihauaiwitrust.co.nz/events/te-awamarahi-marae-poukai/
LOCATION:Te Awamarahi Marae\, Port Waikato Road\, Port Waikato\, New Zealand
END:VEVENT
BEGIN:VEVENT
DTSTART;TZID=Pacific/Auckland:20181108T173000
DTEND;TZID=Pacific/Auckland:20181108T193000
DTSTAMP:20260426T041935
CREATED:20180717T072332Z
LAST-MODIFIED:20180717T072332Z
UID:1479-1541698200-1541705400@ngatihauaiwitrust.co.nz
SUMMARY:Waiata with Hauā - Te Iti ō Hauā Marae
DESCRIPTION:
URL:https://ngatihauaiwitrust.co.nz/events/waiata-with-haua-te-iti-o-haua-marae/
LOCATION:Te Iti O Haua Marae\, 780 Tauwhare Road\, Pukemoremore\, Hamilton\, Matangi\, 3284\, New Zealand
END:VEVENT
BEGIN:VEVENT
DTSTART;VALUE=DATE:20181103
DTEND;VALUE=DATE:20181104
DTSTAMP:20260426T041935
CREATED:20171212T081803Z
LAST-MODIFIED:20171212T081803Z
UID:1377-1541203200-1541289599@ngatihauaiwitrust.co.nz
SUMMARY:Pikitū Marae Poukai
DESCRIPTION:
URL:https://ngatihauaiwitrust.co.nz/events/pikitu-marae-poukai/
LOCATION:Pikitū Marae\, Wiltsdown Road\, Waotu\, New Zealand
END:VEVENT
BEGIN:VEVENT
DTSTART;TZID=Pacific/Auckland:20181012T080000
DTEND;TZID=Pacific/Auckland:20181012T170000
DTSTAMP:20260426T041935
CREATED:20171212T081610Z
LAST-MODIFIED:20171212T081610Z
UID:1374-1539331200-1539363600@ngatihauaiwitrust.co.nz
SUMMARY:Mangatangi Marae Poukai
DESCRIPTION:
URL:https://ngatihauaiwitrust.co.nz/events/mangatangi-marae-poukai/
LOCATION:Mangatangi Marae\, Mangatangi Valley Road\, Mangatangi\, New Zealand
END:VEVENT
BEGIN:VEVENT
DTSTART;VALUE=DATE:20181008
DTEND;VALUE=DATE:20181009
DTSTAMP:20260426T041935
CREATED:20171212T081425Z
LAST-MODIFIED:20171212T081425Z
UID:1371-1538956800-1539043199@ngatihauaiwitrust.co.nz
SUMMARY:Waahi Marae Poukai
DESCRIPTION:
URL:https://ngatihauaiwitrust.co.nz/events/waahi-marae-poukai/
LOCATION:Waahi Marae\, Harris Street\, Huntly\, New Zealand
END:VEVENT
BEGIN:VEVENT
DTSTART;TZID=Pacific/Auckland:20181007T120000
DTEND;TZID=Pacific/Auckland:20181010T120000
DTSTAMP:20260426T041935
CREATED:20180717T072147Z
LAST-MODIFIED:20180717T072147Z
UID:1476-1538913600-1539172800@ngatihauaiwitrust.co.nz
SUMMARY:Te Kura Reo ō Ngāti Hauā
DESCRIPTION:
URL:https://ngatihauaiwitrust.co.nz/events/te-kura-reo-o-ngati-haua/
LOCATION:Te Wharekura o te Rau Aroha\, 5447 State Highway 27\, Waitoa\, Waikato\, 3380\, New Zealand
END:VEVENT
BEGIN:VEVENT
DTSTART;VALUE=DATE:20180909
DTEND;VALUE=DATE:20180910
DTSTAMP:20260426T041935
CREATED:20171212T081241Z
LAST-MODIFIED:20171212T081241Z
UID:1368-1536451200-1536537599@ngatihauaiwitrust.co.nz
SUMMARY:Tauranganui Marae Poukai
DESCRIPTION:
URL:https://ngatihauaiwitrust.co.nz/events/tauranganui-marae-poukai/
LOCATION:Tauranganui Marae\, Port Waikato Road\, Port Waikato\, New Zealand
END:VEVENT
BEGIN:VEVENT
DTSTART;VALUE=DATE:20180831
DTEND;VALUE=DATE:20180901
DTSTAMP:20260426T041935
CREATED:20171212T081007Z
LAST-MODIFIED:20171212T081007Z
UID:1365-1535673600-1535759999@ngatihauaiwitrust.co.nz
SUMMARY:Whatapaka Marae Poukai
DESCRIPTION:
URL:https://ngatihauaiwitrust.co.nz/events/whatapaka-marae-poukai/
LOCATION:Whatapaka Marae\, Whatapaka Road\, Karaka\, New Zealand
END:VEVENT
BEGIN:VEVENT
DTSTART;TZID=Pacific/Auckland:20180809T173000
DTEND;TZID=Pacific/Auckland:20180809T193000
DTSTAMP:20260426T041935
CREATED:20180717T071847Z
LAST-MODIFIED:20180717T071847Z
UID:1474-1533835800-1533843000@ngatihauaiwitrust.co.nz
SUMMARY:Waiata with Hauā - Raungaiti Marae
DESCRIPTION:
URL:https://ngatihauaiwitrust.co.nz/events/waiata-with-haua-raungaiti-marae/
LOCATION:Raungaiti Marae\, 6425 State Highway 27\, Walton\, Waharoa\, Waikato\, 3474\, New Zealand
END:VEVENT
BEGIN:VEVENT
DTSTART;VALUE=DATE:20180617
DTEND;VALUE=DATE:20180618
DTSTAMP:20260426T041935
CREATED:20171212T080735Z
LAST-MODIFIED:20171212T080735Z
UID:1362-1529193600-1529279999@ngatihauaiwitrust.co.nz
SUMMARY:Pohara Marae Poukai
DESCRIPTION:
URL:https://ngatihauaiwitrust.co.nz/events/pohara-marae-poukai/
LOCATION:Pohara Marae\, Oreipunga Road\, Arapuni\, New Zealand
END:VEVENT
BEGIN:VEVENT
DTSTART;VALUE=DATE:20180523
DTEND;VALUE=DATE:20180524
DTSTAMP:20260426T041935
CREATED:20171212T080603Z
LAST-MODIFIED:20171212T080603Z
UID:1359-1527033600-1527119999@ngatihauaiwitrust.co.nz
SUMMARY:Taheke Marae Poukai (Ngāti Pikiao)
DESCRIPTION:
URL:https://ngatihauaiwitrust.co.nz/events/taheke-marae-poukai-ngati-pikiao/
LOCATION:Taheke Marae\, Okere Road\, Okere Falls\, New Zealand
END:VEVENT
BEGIN:VEVENT
DTSTART;VALUE=DATE:20180425
DTEND;VALUE=DATE:20180426
DTSTAMP:20260426T041935
CREATED:20171212T080423Z
LAST-MODIFIED:20171212T080423Z
UID:1356-1524614400-1524700799@ngatihauaiwitrust.co.nz
SUMMARY:Tainuiawhiro Marae Poukai
DESCRIPTION:
URL:https://ngatihauaiwitrust.co.nz/events/tainuiawhiro-marae-poukai/
LOCATION:Tainuiawhiro Marae\, Waingaro Landing Road\, Waingaro\, New Zealand
END:VEVENT
BEGIN:VEVENT
DTSTART;VALUE=DATE:20180415
DTEND;VALUE=DATE:20180416
DTSTAMP:20260426T041935
CREATED:20171212T080303Z
LAST-MODIFIED:20171212T080303Z
UID:1353-1523750400-1523836799@ngatihauaiwitrust.co.nz
SUMMARY:Ngataierua Marae Poukai
DESCRIPTION:
URL:https://ngatihauaiwitrust.co.nz/events/ngataierua-marae-poukai/
LOCATION:Ngataierua Marae\, Carr Street\, Tuakau\, New Zealand
END:VEVENT
BEGIN:VEVENT
DTSTART;VALUE=DATE:20180410
DTEND;VALUE=DATE:20180411
DTSTAMP:20260426T041935
CREATED:20171212T080135Z
LAST-MODIFIED:20171212T080135Z
UID:1350-1523318400-1523404799@ngatihauaiwitrust.co.nz
SUMMARY:Te Papaorotu Marae Poukai
DESCRIPTION:
URL:https://ngatihauaiwitrust.co.nz/events/te-papaorotu-marae-poukai/
LOCATION:Te Papaorotu Marae\, Maori Point Road\, Whatawhata\, New Zealand
END:VEVENT
BEGIN:VEVENT
DTSTART;VALUE=DATE:20180407
DTEND;VALUE=DATE:20180408
DTSTAMP:20260426T041935
CREATED:20171212T080003Z
LAST-MODIFIED:20171212T080003Z
UID:1347-1523059200-1523145599@ngatihauaiwitrust.co.nz
SUMMARY:Huria Marae Poukai
DESCRIPTION:
URL:https://ngatihauaiwitrust.co.nz/events/huria-marae-poukai/
LOCATION:Huria Marae\, 7 Te Kaponga Street\, Tauranga\, New Zealand
END:VEVENT
BEGIN:VEVENT
DTSTART;VALUE=DATE:20180325
DTEND;VALUE=DATE:20180326
DTSTAMP:20260426T041935
CREATED:20171212T075856Z
LAST-MODIFIED:20171212T075856Z
UID:1344-1521936000-1522022399@ngatihauaiwitrust.co.nz
SUMMARY:Te Tokanganuianoho Marae Poukai
DESCRIPTION:
URL:https://ngatihauaiwitrust.co.nz/events/te-tokanganuianoho-marae-poukai/
LOCATION:Te Tokanganuianoho Marae\, Awakino Road\, Te Kuiti\, New Zealand
END:VEVENT
BEGIN:VEVENT
DTSTART;VALUE=DATE:20180324
DTEND;VALUE=DATE:20180325
DTSTAMP:20260426T041935
CREATED:20171212T075729Z
LAST-MODIFIED:20171212T075729Z
UID:1341-1521849600-1521935999@ngatihauaiwitrust.co.nz
SUMMARY:Marokopa Marae Poukai
DESCRIPTION:
URL:https://ngatihauaiwitrust.co.nz/events/marokopa-marae-poukai/
LOCATION:Marokopa Marae\, Marokopa Village\, Marokopa\, New Zealand
END:VEVENT
BEGIN:VEVENT
DTSTART;VALUE=DATE:20180318
DTEND;VALUE=DATE:20180319
DTSTAMP:20260426T041935
CREATED:20171212T075614Z
LAST-MODIFIED:20171212T075614Z
UID:1338-1521331200-1521417599@ngatihauaiwitrust.co.nz
SUMMARY:Turangawaewae Marae Poukai
DESCRIPTION:
URL:https://ngatihauaiwitrust.co.nz/events/turangawaewae-marae-poukai/
LOCATION:Turangawaewae Marae\, River Road\, Ngaruawahia\, New Zealand
END:VEVENT
BEGIN:VEVENT
DTSTART;VALUE=DATE:20180314
DTEND;VALUE=DATE:20180315
DTSTAMP:20260426T041935
CREATED:20171212T075334Z
LAST-MODIFIED:20171212T075443Z
UID:1335-1520985600-1521071999@ngatihauaiwitrust.co.nz
SUMMARY:Okapu Marae Poukai
DESCRIPTION:
URL:https://ngatihauaiwitrust.co.nz/events/okapu-marae-poukai/
LOCATION:Okapu Marae\, River Road\, Ngaruawahia\, New Zealand
END:VEVENT
BEGIN:VEVENT
DTSTART;VALUE=DATE:20180313
DTEND;VALUE=DATE:20180314
DTSTAMP:20260426T041935
CREATED:20171212T075232Z
LAST-MODIFIED:20171212T075232Z
UID:1332-1520899200-1520985599@ngatihauaiwitrust.co.nz
SUMMARY:Maketu Marae Poukai
DESCRIPTION:
URL:https://ngatihauaiwitrust.co.nz/events/maketu-marae-poukai/
LOCATION:Maketu Marae\, Aotea Road\, Kawhia\, New Zealand
END:VEVENT
BEGIN:VEVENT
DTSTART;VALUE=DATE:20180312
DTEND;VALUE=DATE:20180313
DTSTAMP:20260426T041935
CREATED:20171212T075116Z
LAST-MODIFIED:20171212T075116Z
UID:1329-1520812800-1520899199@ngatihauaiwitrust.co.nz
SUMMARY:Waipapa Marae Poukai
DESCRIPTION:
URL:https://ngatihauaiwitrust.co.nz/events/waipapa-marae-poukai/
LOCATION:Waipapa Marae\, Kawhia Road\, Kawhia\, New Zealand
END:VEVENT
BEGIN:VEVENT
DTSTART;VALUE=DATE:20180311
DTEND;VALUE=DATE:20180312
DTSTAMP:20260426T041935
CREATED:20171212T075006Z
LAST-MODIFIED:20171212T075006Z
UID:1326-1520726400-1520812799@ngatihauaiwitrust.co.nz
SUMMARY:Rakaunui Marae Poukai
DESCRIPTION:
URL:https://ngatihauaiwitrust.co.nz/events/rakaunui-marae-poukai/
LOCATION:Rakaunui Marae\, Rakaunui Road\, Oparau\, New Zealand
END:VEVENT
BEGIN:VEVENT
DTSTART;VALUE=DATE:20180310
DTEND;VALUE=DATE:20180311
DTSTAMP:20260426T041935
CREATED:20171212T074854Z
LAST-MODIFIED:20171212T074854Z
UID:1323-1520640000-1520726399@ngatihauaiwitrust.co.nz
SUMMARY:Hoturoa Marae Poukai
DESCRIPTION:
URL:https://ngatihauaiwitrust.co.nz/events/hoturoa-marae-poukai/
LOCATION:Hoturoa Marae\, Aotearoa Road\, Te Awamutu\, New Zealand
END:VEVENT
BEGIN:VEVENT
DTSTART;VALUE=DATE:20180309
DTEND;VALUE=DATE:20180310
DTSTAMP:20260426T041935
CREATED:20171212T073343Z
LAST-MODIFIED:20171212T073343Z
UID:1320-1520553600-1520639999@ngatihauaiwitrust.co.nz
SUMMARY:Parawera Marae Poukai
DESCRIPTION:
URL:https://ngatihauaiwitrust.co.nz/events/parawera-marae-poukai/
LOCATION:Parawera Marae\, Owairaka Valley Rd\, Parawera\, New Zealand
END:VEVENT
BEGIN:VEVENT
DTSTART;VALUE=DATE:20180303
DTEND;VALUE=DATE:20180304
DTSTAMP:20260426T041935
CREATED:20171212T073232Z
LAST-MODIFIED:20171212T073232Z
UID:1317-1520035200-1520121599@ngatihauaiwitrust.co.nz
SUMMARY:Poutu Marae Poukai
DESCRIPTION:
URL:https://ngatihauaiwitrust.co.nz/events/poutu-marae-poukai/
LOCATION:Poutu Marae\, Foxton-Shannon Road\, Shannon\, New Zealand
END:VEVENT
BEGIN:VEVENT
DTSTART;VALUE=DATE:20180224
DTEND;VALUE=DATE:20180225
DTSTAMP:20260426T041935
CREATED:20171212T072956Z
LAST-MODIFIED:20171212T072956Z
UID:1314-1519430400-1519516799@ngatihauaiwitrust.co.nz
SUMMARY:Maurea Marae Poukai
DESCRIPTION:
URL:https://ngatihauaiwitrust.co.nz/events/maurea-marae-poukai/
LOCATION:Maurea Marae\, Te Ohaki Road\, Rangiriri
END:VEVENT
END:VCALENDAR